BEGIN:VCALENDAR
VERSION:2.0
PRODID:-//hacksw/handcal//NONSGML v1.0//EN
BEGIN:VEVENT
SUMMARY:Sortie du dimanche 19 avril 2026
UID:27cb78c8-9af9-45e0-9045-e0abd0320f17
DTSTART:20260419T070000Z
DTEND:20260419T090000Z
LOCATION:Localisation Champ de foire 49320 BRISSAC-QUINCE
CATEGORIES:Sportif
STATUS:
DESCRIPTION:<p>Bonjour,</p>
 
 <p>Nous vous proposons de courir ce
 dimanche 19 avril 2026 :</p>
 
 <p>- RDV sur le champ de foire de
 Brissac (place de Gaulle) a 9 h,</p>
 
 <p>- pour une boucle en
 direction de l'Aubiniere d'environ 20 km.</p>
 
 <p>A
 bientot,</p>
 
 <p>                    L'equipe BL2A </p>
URL;VALUE=URI:https://www.brissacloireaubanceathletisme.com/evenements/2026/04/19/sortie-du-dimanche-19-avril-2026-2442625
END:VEVENT
END:VCALENDAR
