BEGIN:VCALENDAR
VERSION:2.0
PRODID:-//hacksw/handcal//NONSGML v1.0//EN
BEGIN:VEVENT
SUMMARY:Sortie du dimanche 26/04/2026
UID:50ae0a36-62f3-4779-a48f-dcbfc79eeb42
DTSTART:20260426T070000Z
DTEND:20260426T093000Z
LOCATION:Localisation Champ de foire 49320 BRISSAC-QUINCE
CATEGORIES:Sportif
STATUS:
DESCRIPTION:<p>Bonjour,</p>
 
 <p>Nous vous proposons de courir
 ensemble ce dimanche 26 avril 2026 :</p>
 
 <p>- RDV a 9 h sur le champ
 de foire de Brissac (place de Gaulle),</p>
 
 <p>- pour une boucle de
 environ 22 km (boucle du 1er mai 2025).</p>
 
 <p>A bientot,</p>
 
 <p> 
                       L'equipe BL2A</p>
URL;VALUE=URI:https://www.brissacloireaubanceathletisme.com/evenements/2026/04/26/sortie-du-dimanche-26042026-2444730
END:VEVENT
END:VCALENDAR
